Workbook

Sheet Sheet1
A1: NAME:
A2: DATE: | D2: SUPVR APPROVAL:
B3: ACCT#: | D3: BUSINESS MANGR:
B5: Date | C5: From | D5: To | E5: Mileage | F5: Notes
C6: (choose) | D6: (choose) | E6: =INDEX(Sheet2!$B$2:$AO$41,MATCH(Sheet1!C6,Sheet2!$B$1:$AO$1,0),MATCH(Sheet1!D6,Sheet2!$A$2:$A$41,0)) -> 0
C7: (choose) | D7: (choose) | E7: =INDEX(Sheet2!$B$2:$AO$41,MATCH(Sheet1!C7,Sheet2!$B$1:$AO$1,0),MATCH(Sheet1!D7,Sheet2!$A$2:$A$41,0)) -> 0
C8: (choose) | D8: (choose) | E8: =INDEX(Sheet2!$B$2:$AO$41,MATCH(Sheet1!C8,Sheet2!$B$1:$AO$1,0),MATCH(Sheet1!D8,Sheet2!$A$2:$A$41,0)) -> 0
C9: (choose) | D9: (choose) | E9: =INDEX(Sheet2!$B$2:$AO$41,MATCH(Sheet1!C9,Sheet2!$B$1:$AO$1,0),MATCH(Sheet1!D9,Sheet2!$A$2:$A$41,0)) -> 0
C10: (choose) | D10: (choose) | E10: =INDEX(Sheet2!$B$2:$AO$41,MATCH(Sheet1!C10,Sheet2!$B$1:$AO$1,0),MATCH(Sheet1!D10,Sheet2!$A$2:$A$41,0)) -> 0
C11: (choose) | D11: (choose) | E11: =INDEX(Sheet2!$B$2:$AO$41,MATCH(Sheet1!C11,Sheet2!$B$1:$AO$1,0),MATCH(Sheet1!D11,Sheet2!$A$2:$A$41,0)) -> 0
C12: (choose) | D12: (choose) | E12: =INDEX(Sheet2!$B$2:$AO$41,MATCH(Sheet1!C12,Sheet2!$B$1:$AO$1,0),MATCH(Sheet1!D12,Sheet2!$A$2:$A$41,0)) -> 0
C13: (choose) | D13: (choose) | E13: =INDEX(Sheet2!$B$2:$AO$41,MATCH(Sheet1!C13,Sheet2!$B$1:$AO$1,0),MATCH(Sheet1!D13,Sheet2!$A$2:$A$41,0)) -> 0
C14: (choose) | D14: (choose) | E14: =INDEX(Sheet2!$B$2:$AO$41,MATCH(Sheet1!C14,Sheet2!$B$1:$AO$1,0),MATCH(Sheet1!D14,Sheet2!$A$2:$A$41,0)) -> 0
C15: (choose) | D15: (choose) | E15: =INDEX(Sheet2!$B$2:$AO$41,MATCH(Sheet1!C15,Sheet2!$B$1:$AO$1,0),MATCH(Sheet1!D15,Sheet2!$A$2:$A$41,0)) -> 0
C16: (choose) | D16: (choose) | E16: =INDEX(Sheet2!$B$2:$AO$41,MATCH(Sheet1!C16,Sheet2!$B$1:$AO$1,0),MATCH(Sheet1!D16,Sheet2!$A$2:$A$41,0)) -> 0
C17: (choose) | D17: (choose) | E17: =INDEX(Sheet2!$B$2:$AO$41,MATCH(Sheet1!C17,Sheet2!$B$1:$AO$1,0),MATCH(Sheet1!D17,Sheet2!$A$2:$A$41,0)) -> 0
... C45: (choose) | D45: (choose) | E45: =INDEX(Sheet2!$B$2:$AO$41,MATCH(Sheet1!C45,Sheet2!$B$1:$AO$1,0),MATCH(Sheet1!D45,Sheet2!$A$2:$A$41,0)) -> 0
D46: TOTAL MILES: | E46: =SUM(E6:E45) -> 0
D47: TOTAL REIMBURSEMENT: | E47: =E46*0.76 -> 0
A48: Mileage must be at the Cooperative office the first day of each month. | E48: $.76/mile effective October 1, 2026.
A49: Any mileage received after the first day of the month will be on next month's business.

Sheet Sheet2
B1: (choose) | C1: Bridgewater | D1: Canistota | E1: Emery | F1: Ethan | G1: Freeman | H1: Hanson | I1: Marion | J1: McCook Central | K1: Montrose | L1: Parker | M1: Cornbelt Office | N1: Other | O1: McCook-Montrose RT | P1: Canistota-McCook RT | Q1: Canistota-Montrose RT | R1: Parker-Marion RT | S1: Ethan-Marion RT | T1: Hanson-Ethan RT | U1: Parker-Freeman RT | V1: Freeman-Marion RT | W1: Emery-Freeman RT | X1: Bridgewater-Emery RT | Y1: Bridgewater-Marion RT | Z1: Freeman-Tschetter Colony RT | AA1: Freeman-Wolf Creek Colony RT | AB1: Hanson-Millbrook Colony RT | AC1: Hanson-Oaklane Colony Boss RT | AD1: McCook-Golden View Colony RT | AE1: Montrose-Orland Colony RT | AF1: Bridgewater-Cornbelt RT | AG1: Canistota-Cornbelt RT | AH1: Emery-Cornbelt RT | AI1: Ethan-Cornbelt RT | AJ1: Freeman-Cornbelt RT | AK1: Hanson-Cornbelt RT | AL1: Marion-Cornbelt RT | AM1: McCook-Cornbelt RT | AN1: Montrose-Cornbelt RT | AO1: Parker-Cornbelt RT
A2: (choose) | B2: 0 | C2: 0 | D2: 0 | E2: 0 | F2: 0 | G2: 0 | H2: 0 | I2: 0 | J2: 0 | K2: 0 | L2: 0 | M2: 0 | N2: 0 | O2: 0 | P2: 0 | Q2: 0 | R2: 0 | S2: 0 | T2: 0 | U2: 0 | V2: 0 | W2: 0 | X2: 0 | Y2: 0 | Z2: 0 | AA2: 0 | AB2: 0 | AC2: 0 | AD2: 0 | AE2: 0 | AF2: 0 | AG2: 0 | AH2: 0 | AI2: 0 | AJ2: 0 | AK2: 0 | AL2: 0 | AM2: 0 | AN2: 0 | AO2: 0
A3: Bridgewater | B3: 0 | C3: 0 | D3: 15 | E3: 7 | F3: 25 | G3: 22 | H3: 16 | I3: 21 | J3: 19 | K3: 27 | L3: 31 | M3: 39 | N3: 0 | O3: 0 | P3: 0 | Q3: 0 | R3: 0 | S3: 0 | T3: 0 | U3: 0 | V3: 0 | W3: 0 | X3: 0 | Y3: 0 | Z3: 0 | AA3: 0 | AB3: 0 | AC3: 0 | AD3: 0 | AE3: 0 | AF3: 0 | AG3: 0 | AH3: 0 | AI3: 0 | AJ3: 0 | AK3: 0 | AL3: 0 | AM3: 0 | AN3: 0 | AO3: 0
A4: Canistota | B4: 0 | C4: 15 | D4: 0 | E4: 22 | F4: 39 | G4: 24 | H4: 30 | I4: 14 | J4: 14 | K4: 13 | L4: 21 | M4: 32 | N4: 0 | O4: 0 | P4: 0 | Q4: 0 | R4: 0 | S4: 0 | T4: 0 | U4: 0 | V4: 0 | W4: 0 | X4: 0 | Y4: 0 | Z4: 0 | AA4: 0 | AB4: 0 | AC4: 0 | AD4: 0 | AE4: 0 | AF4: 0 | AG4: 0 | AH4: 0 | AI4: 0 | AJ4: 0 | AK4: 0 | AL4: 0 | AM4: 0 | AN4: 0 | AO4: 0
A5: Emery | B5: 0 | C5: 7 | D5: 22 | E5: 0 | F5: 23 | G5: 28 | H5: 9 | I5: 28 | J5: 24 | K5: 32 | L5: 38 | M5: 46 | N5: 0 | O5: 0 | P5: 0 | Q5: 0 | R5: 0 | S5: 0 | T5: 0 | U5: 0 | V5: 0 | W5: 0 | X5: 0 | Y5: 0 | Z5: 0 | AA5: 0 | AB5: 0 | AC5: 0 | AD5: 0 | AE5: 0 | AF5: 0 | AG5: 0 | AH5: 0 | AI5: 0 | AJ5: 0 | AK5: 0 | AL5: 0 | AM5: 0 | AN5: 0 | AO5: 0
A6: Ethan | B6: 0 | C6: 25 | D6: 39 | E6: 23 | F6: 0 | G6: 43 | H6: 19 | I6: 45 | J6: 43 | K6: 52 | L6: 53 | M6: 64 | N6: 0 | O6: 0 | P6: 0 | Q6: 0 | R6: 0 | S6: 0 | T6: 0 | U6: 0 | V6: 0 | W6: 0 | X6: 0 | Y6: 0 | Z6: 0 | AA6: 0 | AB6: 0 | AC6: 0 | AD6: 0 | AE6: 0 | AF6: 0 | AG6: 0 | AH6: 0 | AI6: 0 | AJ6: 0 | AK6: 0 | AL6: 0 | AM6: 0 | AN6: 0 | AO6: 0
A7: Freeman | B7: 0 | C7: 22 | D7: 24 | E7: 28 | F7: 43 | G7: 0 | H7: 37 | I7: 14 | J7: 28 | K7: 36 | L7: 19 | M7: 49 | N7: 0 | O7: 0 | P7: 0 | Q7: 0 | R7: 0 | S7: 0 | T7: 0 | U7: 0 | V7: 0 | W7: 0 | X7: 0 | Y7: 0 | Z7: 0 | AA7: 0 | AB7: 0 | AC7: 0 | AD7: 0 | AE7: 0 | AF7: 0 | AG7: 0 | AH7: 0 | AI7: 0 | AJ7: 0 | AK7: 0 | AL7: 0 | AM7: 0 | AN7: 0 | AO7: 0
A8: Hanson | B8: 0 | C8: 16 | D8: 30 | E8: 9 | F8: 19 | G8: 37 | H8: 0 | I8: 43 | J8: 25 | K8: 33 | L8: 47 | M8: 58 | N8: 0 | O8: 0 | P8: 0 | Q8: 0 | R8: 0 | S8: 0 | T8: 0 | U8: 0 | V8: 0 | W8: 0 | X8: 0 | Y8: 0 | Z8: 0 | AA8: 0 | AB8: 0 | AC8: 0 | AD8: 0 | AE8: 0 | AF8: 0 | AG8: 0 | AH8: 0 | AI8: 0 | AJ8: 0 | AK8: 0 | AL8: 0 | AM8: 0 | AN8: 0 | AO8: 0
A9: Marion | B9: 0 | C9: 21 | D9: 14 | E9: 28 | F9: 45 | G9: 14 | H9: 43 | I9: 0 | J9: 28 | K9: 23 | L9: 8 | M9: 36 | N9: 0 | O9: 0 | P9: 0 | Q9: 0 | R9: 0 | S9: 0 | T9: 0 | U9: 0 | V9: 0 | W9: 0 | X9: 0 | Y9: 0 | Z9: 0 | AA9: 0 | AB9: 0 | AC9: 0 | AD9: 0 | AE9: 0 | AF9: 0 | AG9: 0 | AH9: 0 | AI9: 0 | AJ9: 0 | AK9: 0 | AL9: 0 | AM9: 0 | AN9: 0 | AO9: 0
A10: McCook Central | B10: 0 | C10: 19 | D10: 14 | E10: 24 | F10: 43 | G10: 28 | H10: 25 | I10: 28 | J10: 0 | K10: 12 | L10: 37 | M10: 41 | N10: 0 | O10: 0 | P10: 0 | Q10: 0 | R10: 0 | S10: 0 | T10: 0 | U10: 0 | V10: 0 | W10: 0 | X10: 0 | Y10: 0 | Z10: 0 | AA10: 0 | AB10: 0 | AC10: 0 | AD10: 0 | AE10: 0 | AF10: 0 | AG10: 0 | AH10: 0 | AI10: 0 | AJ10: 0 | AK10: 0 | AL10: 0 | AM10: 0 | AN10: 0 | AO10: 0
A11: Montrose | B11: 0 | C11: 27 | D11: 13 | E11: 32 | F11: 52 | G11: 36 | H11: 33 | I11: 23 | J11: 12 | K11: 0 | L11: 26 | M11: 29 | N11: 0 | O11: 0 | P11: 0 | Q11: 0 | R11: 0 | S11: 0 | T11: 0 | U11: 0 | V11: 0 | W11: 0 | X11: 0 | Y11: 0 | Z11: 0 | AA11: 0 | AB11: 0 | AC11: 0 | AD11: 0 | AE11: 0 | AF11: 0 | AG11: 0 | AH11: 0 | AI11: 0 | AJ11: 0 | AK11: 0 | AL11: 0 | AM11: 0 | AN11: 0 | AO11: 0
A12: Parker | B12: 0 | C12: 31 | D12: 21 | E12: 38 | F12: 53 | G12: 19 | H12: 47 | I12: 8 | J12: 37 | K12: 26 | L12: 0 | M12: 31 | N12: 0 | O12: 0 | P12: 0 | Q12: 0 | R12: 0 | S12: 0 | T12: 0 | U12: 0 | V12: 0 | W12: 0 | X12: 0 | Y12: 0 | Z12: 0 | AA12: 0 | AB12: 0 | AC12: 0 | AD12: 0 | AE12: 0 | AF12: 0 | AG12: 0 | AH12: 0 | AI12: 0 | AJ12: 0 | AK12: 0 | AL12: 0 | AM12: 0 | AN12: 0 | AO12: 0
A13: Cornbelt Office | B13: 0 | C13: 39 | D13: 32 | E13: 46 | F13: 64 | G13: 49 | H13: 58 | I13: 36 | J13: 41 | K13: 29 | L13: 31 | M13: 0 | N13: 0 | O13: 0 | P13: 0 | Q13: 0 | R13: 0 | S13: 0 | T13: 0 | U13: 0 | V13: 0 | W13: 0 | X13: 0 | Y13: 0 | Z13: 0 | AA13: 0 | AB13: 0 | AC13: 0 | AD13: 0 | AE13: 0 | AF13: 0 | AG13: 0 | AH13: 0 | AI13: 0 | AJ13: 0 | AK13: 0 | AL13: 0 | AM13: 0 | AN13: 0 | AO13: 0
... A41: Parker-Cornbelt RT | B41: 0 | C41: 0 | D41: 0 | E41: 0 | F41: 0 | G41: 0 | H41: 0 | I41: 0 | J41: 0 | K41: 0 | L41: 0 | M41: 0 | N41: 0 | O41: 0 | P41: 0 | Q41: 0 | R41: 0 | S41: 0 | T41: 0 | U41: 0 | V41: 0 | W41: 0 | X41: 0 | Y41: 0 | Z41: 0 | AA41: 0 | AB41: 0 | AC41: 0 | AD41: 0 | AE41: 0 | AF41: 0 | AG41: 0 | AH41: 0 | AI41: 0 | AJ41: 0 | AK41: 0 | AL41: 0 | AM41: 0 | AN41: 0 | AO41: 62

Sheet Sheet3
